BEGIN:VCALENDAR
BEGIN:VEVENT
CLASS:PUBLIC
CREATED:20260421T191354
DESCRIPTION:
VAR P01 – Plamensko varjenje
VAR MO1 – Osnovni tečaj varjenja MIG/MAG
VAR T01 – Osnovni tečaj varjenja v zaščitnem plinu TIG
VAR R01 -Osnovni tečaj ročnega elektro obločnega varjenja (REO)
VAR PR01 – Varjenje in rezanje s plazmo

DTEND:20261002T200000
DTSTAMP:20260421T191354
DTSTART:20260929T140000
LAST-MODIFIED:20091109T101015Z
LOCATION:ŠC Velenje, Medpodjetniški izobraževalni center (MIC), Koroška 62a, Velenje, , 3320
SUMMARY;LANGUAGE=en-us:VAR01 - Varjenje osnove
BEGIN:VALARM
TRIGGER:-PT1440M
ACTION:DISPLAY
DESCRIPTION:Reminder
END:VALARM
END:VEVENT
END:VCALENDAR
