BEGIN:VCALENDAR
BEGIN:VEVENT
CLASS:PUBLIC
CREATED:20260421T144238
DESCRIPTION:[post-content id=95]
DTEND:20260415T180000
DTSTAMP:20260421T144238
DTSTART:20260413T110000
LAST-MODIFIED:20091109T101015Z
LOCATION:ŠC Velenje, Medpodjetniški izobraževalni center (MIC), Koroška 62a, Velenje, , 3320
SUMMARY;LANGUAGE=en-us:PN11 - Pnevmatika osnove
BEGIN:VALARM
TRIGGER:-PT1440M
ACTION:DISPLAY
DESCRIPTION:Reminder
END:VALARM
END:VEVENT
END:VCALENDAR
